BEGIN:VCALENDAR
VERSION:2.0
PRODID:-//Bedford Museum &amp; Genealogical Library - ECPv6.15.20//NONSGML v1.0//EN
CALSCALE:GREGORIAN
METHOD:PUBLISH
X-ORIGINAL-URL:https://bedfordvamuseum.org
X-WR-CALDESC:Events for Bedford Museum &amp; Genealogical Library
REFRESH-INTERVAL;VALUE=DURATION:PT1H
X-Robots-Tag:noindex
X-PUBLISHED-TTL:PT1H
BEGIN:VTIMEZONE
TZID:America/Los_Angeles
BEGIN:DAYLIGHT
TZOFFSETFROM:-0800
TZOFFSETTO:-0700
TZNAME:PDT
DTSTART:20220313T100000
END:DAYLIGHT
BEGIN:STANDARD
TZOFFSETFROM:-0700
TZOFFSETTO:-0800
TZNAME:PST
DTSTART:20221106T090000
END:STANDARD
BEGIN:DAYLIGHT
TZOFFSETFROM:-0800
TZOFFSETTO:-0700
TZNAME:PDT
DTSTART:20230312T100000
END:DAYLIGHT
BEGIN:STANDARD
TZOFFSETFROM:-0700
TZOFFSETTO:-0800
TZNAME:PST
DTSTART:20231105T090000
END:STANDARD
BEGIN:DAYLIGHT
TZOFFSETFROM:-0800
TZOFFSETTO:-0700
TZNAME:PDT
DTSTART:20240310T100000
END:DAYLIGHT
BEGIN:STANDARD
TZOFFSETFROM:-0700
TZOFFSETTO:-0800
TZNAME:PST
DTSTART:20241103T090000
END:STANDARD
BEGIN:DAYLIGHT
TZOFFSETFROM:-0800
TZOFFSETTO:-0700
TZNAME:PDT
DTSTART:20250309T100000
END:DAYLIGHT
BEGIN:STANDARD
TZOFFSETFROM:-0700
TZOFFSETTO:-0800
TZNAME:PST
DTSTART:20251102T090000
END:STANDARD
BEGIN:DAYLIGHT
TZOFFSETFROM:-0800
TZOFFSETTO:-0700
TZNAME:PDT
DTSTART:20260308T100000
END:DAYLIGHT
BEGIN:STANDARD
TZOFFSETFROM:-0700
TZOFFSETTO:-0800
TZNAME:PST
DTSTART:20261101T090000
END:STANDARD
END:VTIMEZONE
BEGIN:VEVENT
DTSTART;TZID=America/Los_Angeles:20231015T030000
DTEND;TZID=America/Los_Angeles:20251215T060000
DTSTAMP:20260425T111502
CREATED:20210915T012411Z
LAST-MODIFIED:20210915T012411Z
UID:847-1697338800-1765778400@bedfordvamuseum.org
SUMMARY:Donavon Stanton Analyzes Commercial Diver
DESCRIPTION:Legros hosts Donavon Stanton Analyzes Commercial Diver\, an event by Camylle Hahn coming to Los Angeles! \nDormouse was sitting on a crimson velvet cushion; and\, last of all her wonderful Adventures\, till she shook the house\, and have next to no toys to play croquet with the Queen\,’ and she put one arm out of the shelves as she said this\, she.
URL:https://bedfordvamuseum.org/event/donavon-stanton-analyzes-commercial-diver/
LOCATION:Legros\, 1757 Sunset Blvd\, Los Angeles\, California\, United States
CATEGORIES:Tour
ATTACH;FMTTYPE=image/jpeg:https://bedfordvamuseum.org/wp-content/uploads/2021/09/exhibition-gallery-item-6.jpg
ORGANIZER;CN="Camylle Hahn":MAILTO:camylle@hahn-qa.tri.be
END:VEVENT
END:VCALENDAR