BEGIN:VCALENDAR
VERSION:2.0
PRODID:-//Bedford Museum &amp; Genealogical Library - ECPv6.15.20//NONSGML v1.0//EN
CALSCALE:GREGORIAN
METHOD:PUBLISH
X-WR-CALNAME:Bedford Museum &amp; Genealogical Library
X-ORIGINAL-URL:https://bedfordvamuseum.org
X-WR-CALDESC:Events for Bedford Museum &amp; Genealogical Library
REFRESH-INTERVAL;VALUE=DURATION:PT1H
X-Robots-Tag:noindex
X-PUBLISHED-TTL:PT1H
BEGIN:VTIMEZONE
TZID:America/Los_Angeles
BEGIN:DAYLIGHT
TZOFFSETFROM:-0800
TZOFFSETTO:-0700
TZNAME:PDT
DTSTART:20220313T100000
END:DAYLIGHT
BEGIN:STANDARD
TZOFFSETFROM:-0700
TZOFFSETTO:-0800
TZNAME:PST
DTSTART:20221106T090000
END:STANDARD
BEGIN:DAYLIGHT
TZOFFSETFROM:-0800
TZOFFSETTO:-0700
TZNAME:PDT
DTSTART:20230312T100000
END:DAYLIGHT
BEGIN:STANDARD
TZOFFSETFROM:-0700
TZOFFSETTO:-0800
TZNAME:PST
DTSTART:20231105T090000
END:STANDARD
BEGIN:DAYLIGHT
TZOFFSETFROM:-0800
TZOFFSETTO:-0700
TZNAME:PDT
DTSTART:20240310T100000
END:DAYLIGHT
BEGIN:STANDARD
TZOFFSETFROM:-0700
TZOFFSETTO:-0800
TZNAME:PST
DTSTART:20241103T090000
END:STANDARD
BEGIN:DAYLIGHT
TZOFFSETFROM:-0800
TZOFFSETTO:-0700
TZNAME:PDT
DTSTART:20250309T100000
END:DAYLIGHT
BEGIN:STANDARD
TZOFFSETFROM:-0700
TZOFFSETTO:-0800
TZNAME:PST
DTSTART:20251102T090000
END:STANDARD
BEGIN:DAYLIGHT
TZOFFSETFROM:-0800
TZOFFSETTO:-0700
TZNAME:PDT
DTSTART:20260308T100000
END:DAYLIGHT
BEGIN:STANDARD
TZOFFSETFROM:-0700
TZOFFSETTO:-0800
TZNAME:PST
DTSTART:20261101T090000
END:STANDARD
END:VTIMEZONE
BEGIN:VTIMEZONE
TZID:America/New_York
BEGIN:DAYLIGHT
TZOFFSETFROM:-0500
TZOFFSETTO:-0400
TZNAME:EDT
DTSTART:20220313T070000
END:DAYLIGHT
BEGIN:STANDARD
TZOFFSETFROM:-0400
TZOFFSETTO:-0500
TZNAME:EST
DTSTART:20221106T060000
END:STANDARD
BEGIN:DAYLIGHT
TZOFFSETFROM:-0500
TZOFFSETTO:-0400
TZNAME:EDT
DTSTART:20230312T070000
END:DAYLIGHT
BEGIN:STANDARD
TZOFFSETFROM:-0400
TZOFFSETTO:-0500
TZNAME:EST
DTSTART:20231105T060000
END:STANDARD
BEGIN:DAYLIGHT
TZOFFSETFROM:-0500
TZOFFSETTO:-0400
TZNAME:EDT
DTSTART:20240310T070000
END:DAYLIGHT
BEGIN:STANDARD
TZOFFSETFROM:-0400
TZOFFSETTO:-0500
TZNAME:EST
DTSTART:20241103T060000
END:STANDARD
BEGIN:DAYLIGHT
TZOFFSETFROM:-0500
TZOFFSETTO:-0400
TZNAME:EDT
DTSTART:20250309T070000
END:DAYLIGHT
BEGIN:STANDARD
TZOFFSETFROM:-0400
TZOFFSETTO:-0500
TZNAME:EST
DTSTART:20251102T060000
END:STANDARD
BEGIN:DAYLIGHT
TZOFFSETFROM:-0500
TZOFFSETTO:-0400
TZNAME:EDT
DTSTART:20260308T070000
END:DAYLIGHT
BEGIN:STANDARD
TZOFFSETFROM:-0400
TZOFFSETTO:-0500
TZNAME:EST
DTSTART:20261101T060000
END:STANDARD
END:VTIMEZONE
BEGIN:VEVENT
DTSTART;TZID=America/Los_Angeles:20230615T100000
DTEND;TZID=America/Los_Angeles:20250615T123000
DTSTAMP:20260425T162410
CREATED:20210915T012411Z
LAST-MODIFIED:20210915T012411Z
UID:845-1686823200-1749990600@bedfordvamuseum.org
SUMMARY:Analyzing Agricultural Technician
DESCRIPTION:Presentation & Book Signing with Philip Gibbs - Author of\nSex\, Liquor and Lawlessness in Early Roanoke				\n				\n		\n		\n				\n				\n																														\n				\n				\n		\n				\n				\n									Join us at the Bedford Museum and Genealogical Library on May 9th from 1:00 to 3:00pm! Mr. Gibbs will be speaking about his book\, followed by a book signing where attendees can purchase their own copy. Click here to purchase admission tickets. Priced at $10 								\n				\n				\n				\n				\n				\n					About the Book				\n				\n				\n				\n									During the 1880s\, the new city of Roanoke attracted a large and diverse workforce and a multitude of merchants and investors. But like the western cow towns and mining camps of the same period\, the city also attracted prostitutes\, professional gamblers\, charlatans\, and common thieves. By the early 1900s\, Roanoke had become well known for its brothels\, saloons\, gambling halls\, and rampant lawlessness. Despite a campaign to clean up the city\, it was unable to shake its unsavory image. This was particularly true after Virginia went dry in 1916. With easy access to the moonshine whiskey that had long been produced in the surrounding mountains\, bootleg kingpins boldly transported illegal liquor into the city and used violence to protect their operations. Author Phillip Andrew Gibbs explores Roanoke’s early criminal underworld and how civic leaders and law enforcement struggled to free the city from its wild\, wicked\, and unrepentant reputation. 								\n				\n				\n				\n					Book Signing Schedule				\n				\n					\n				\n		\n					\n				\n				\n					Time				\n				\n				\n				\n									Date: May 9th\, 2026Time: 1:00pm to 3:00pm 								\n				\n				\n				\n					Venue				\n				\n					\n				\n		\n					\n				\n				\n									ADDRESS: Bedford Museum and Genealogical Library Third Floor201 E. Main Street\, Bedford\, VA 24523 United States + 								\n				\n				\n				\n							\n			\n		\n						\n				\n					\n				\n		\n					\n				\n				\n					Questions? Inquiries?Contact us for more information.				\n				\n				\n				\n									Contact Number: 540-586-4520Email Address: bccm-info@bedfordvamuseum.org
URL:https://bedfordvamuseum.org/event/analyzing-agricultural-technician/
LOCATION:The Ritchie Arena\, 4609 Santa Monica Blvd\, Los Angeles\, California\, United States
CATEGORIES:Tour
ATTACH;FMTTYPE=image/jpeg:https://bedfordvamuseum.org/wp-content/uploads/2021/09/exhibition-14-scaled-1.jpg
ORGANIZER;CN="Alda Stoltenberg-Terry":MAILTO:alda@stoltenberg-terry-qa.tri.be
END:VEVENT
BEGIN:VEVENT
DTSTART;TZID=America/Los_Angeles:20230515T113000
DTEND;TZID=America/Los_Angeles:20250515T133000
DTSTAMP:20260425T162411
CREATED:20210915T012410Z
LAST-MODIFIED:20210915T012410Z
UID:838-1684150200-1747315800@bedfordvamuseum.org
SUMMARY:Ally Kemmer Analyzes Data Processing Equipment Repairer
DESCRIPTION:Presentation & Book Signing with Philip Gibbs - Author of\nSex\, Liquor and Lawlessness in Early Roanoke				\n				\n		\n		\n				\n				\n																														\n				\n				\n		\n				\n				\n									Join us at the Bedford Museum and Genealogical Library on May 9th from 1:00 to 3:00pm! Mr. Gibbs will be speaking about his book\, followed by a book signing where attendees can purchase their own copy. Click here to purchase admission tickets. Priced at $10 								\n				\n				\n				\n				\n				\n					About the Book				\n				\n				\n				\n									During the 1880s\, the new city of Roanoke attracted a large and diverse workforce and a multitude of merchants and investors. But like the western cow towns and mining camps of the same period\, the city also attracted prostitutes\, professional gamblers\, charlatans\, and common thieves. By the early 1900s\, Roanoke had become well known for its brothels\, saloons\, gambling halls\, and rampant lawlessness. Despite a campaign to clean up the city\, it was unable to shake its unsavory image. This was particularly true after Virginia went dry in 1916. With easy access to the moonshine whiskey that had long been produced in the surrounding mountains\, bootleg kingpins boldly transported illegal liquor into the city and used violence to protect their operations. Author Phillip Andrew Gibbs explores Roanoke’s early criminal underworld and how civic leaders and law enforcement struggled to free the city from its wild\, wicked\, and unrepentant reputation. 								\n				\n				\n				\n					Book Signing Schedule				\n				\n					\n				\n		\n					\n				\n				\n					Time				\n				\n				\n				\n									Date: May 9th\, 2026Time: 1:00pm to 3:00pm 								\n				\n				\n				\n					Venue				\n				\n					\n				\n		\n					\n				\n				\n									ADDRESS: Bedford Museum and Genealogical Library Third Floor201 E. Main Street\, Bedford\, VA 24523 United States + 								\n				\n				\n				\n							\n			\n		\n						\n				\n					\n				\n		\n					\n				\n				\n					Questions? Inquiries?Contact us for more information.				\n				\n				\n				\n									Contact Number: 540-586-4520Email Address: bccm-info@bedfordvamuseum.org
URL:https://bedfordvamuseum.org/event/ally-kemmer-analyzes-data-processing-equipment-repairer/
LOCATION:Hilpert\, McKenzie and Lebsack\, 1119 Columbus Ave\, San Francisco\, California\, United States
CATEGORIES:Tour
ATTACH;FMTTYPE=image/jpeg:https://bedfordvamuseum.org/wp-content/uploads/2021/09/feature-box-1.jpg
ORGANIZER;CN="Eunice Runolfsdottir":MAILTO:eunice@runolfsdottir-qa.tri.be
END:VEVENT
BEGIN:VEVENT
DTSTART;TZID=America/New_York:20230415T113000
DTEND;TZID=America/New_York:20250415T143000
DTSTAMP:20260425T162411
CREATED:20210915T012411Z
LAST-MODIFIED:20210915T012411Z
UID:842-1681558200-1744727400@bedfordvamuseum.org
SUMMARY:Eudora Schaefer Analyzes Photographic Reproduction Technician
DESCRIPTION:Presentation & Book Signing with Philip Gibbs - Author of\nSex\, Liquor and Lawlessness in Early Roanoke				\n				\n		\n		\n				\n				\n																														\n				\n				\n		\n				\n				\n									Join us at the Bedford Museum and Genealogical Library on May 9th from 1:00 to 3:00pm! Mr. Gibbs will be speaking about his book\, followed by a book signing where attendees can purchase their own copy. Click here to purchase admission tickets. Priced at $10 								\n				\n				\n				\n				\n				\n					About the Book				\n				\n				\n				\n									During the 1880s\, the new city of Roanoke attracted a large and diverse workforce and a multitude of merchants and investors. But like the western cow towns and mining camps of the same period\, the city also attracted prostitutes\, professional gamblers\, charlatans\, and common thieves. By the early 1900s\, Roanoke had become well known for its brothels\, saloons\, gambling halls\, and rampant lawlessness. Despite a campaign to clean up the city\, it was unable to shake its unsavory image. This was particularly true after Virginia went dry in 1916. With easy access to the moonshine whiskey that had long been produced in the surrounding mountains\, bootleg kingpins boldly transported illegal liquor into the city and used violence to protect their operations. Author Phillip Andrew Gibbs explores Roanoke’s early criminal underworld and how civic leaders and law enforcement struggled to free the city from its wild\, wicked\, and unrepentant reputation. 								\n				\n				\n				\n					Book Signing Schedule				\n				\n					\n				\n		\n					\n				\n				\n					Time				\n				\n				\n				\n									Date: May 9th\, 2026Time: 1:00pm to 3:00pm 								\n				\n				\n				\n					Venue				\n				\n					\n				\n		\n					\n				\n				\n									ADDRESS: Bedford Museum and Genealogical Library Third Floor201 E. Main Street\, Bedford\, VA 24523 United States + 								\n				\n				\n				\n							\n			\n		\n						\n				\n					\n				\n		\n					\n				\n				\n					Questions? Inquiries?Contact us for more information.				\n				\n				\n				\n									Contact Number: 540-586-4520Email Address: bccm-info@bedfordvamuseum.org
URL:https://bedfordvamuseum.org/event/eudora-schaefer-analyzes-photographic-reproduction-technician/
LOCATION:The Breitenberg Cafe\, 51 42nd St\, New York City\, New York\, United States
CATEGORIES:Tour
ATTACH;FMTTYPE=image/jpeg:https://bedfordvamuseum.org/wp-content/uploads/2021/09/exhibition-gallery-item-6.jpg
ORGANIZER;CN="Camylle Hahn":MAILTO:camylle@hahn-qa.tri.be
END:VEVENT
BEGIN:VEVENT
DTSTART;TZID=America/Los_Angeles:20230315T123000
DTEND;TZID=America/Los_Angeles:20250315T143000
DTSTAMP:20260425T162411
CREATED:20210915T012410Z
LAST-MODIFIED:20210915T012410Z
UID:839-1678883400-1742049000@bedfordvamuseum.org
SUMMARY:Anabel Lehner Talks User Experience Manager
DESCRIPTION:Presentation & Book Signing with Philip Gibbs - Author of\nSex\, Liquor and Lawlessness in Early Roanoke				\n				\n		\n		\n				\n				\n																														\n				\n				\n		\n				\n				\n									Join us at the Bedford Museum and Genealogical Library on May 9th from 1:00 to 3:00pm! Mr. Gibbs will be speaking about his book\, followed by a book signing where attendees can purchase their own copy. Click here to purchase admission tickets. Priced at $10 								\n				\n				\n				\n				\n				\n					About the Book				\n				\n				\n				\n									During the 1880s\, the new city of Roanoke attracted a large and diverse workforce and a multitude of merchants and investors. But like the western cow towns and mining camps of the same period\, the city also attracted prostitutes\, professional gamblers\, charlatans\, and common thieves. By the early 1900s\, Roanoke had become well known for its brothels\, saloons\, gambling halls\, and rampant lawlessness. Despite a campaign to clean up the city\, it was unable to shake its unsavory image. This was particularly true after Virginia went dry in 1916. With easy access to the moonshine whiskey that had long been produced in the surrounding mountains\, bootleg kingpins boldly transported illegal liquor into the city and used violence to protect their operations. Author Phillip Andrew Gibbs explores Roanoke’s early criminal underworld and how civic leaders and law enforcement struggled to free the city from its wild\, wicked\, and unrepentant reputation. 								\n				\n				\n				\n					Book Signing Schedule				\n				\n					\n				\n		\n					\n				\n				\n					Time				\n				\n				\n				\n									Date: May 9th\, 2026Time: 1:00pm to 3:00pm 								\n				\n				\n				\n					Venue				\n				\n					\n				\n		\n					\n				\n				\n									ADDRESS: Bedford Museum and Genealogical Library Third Floor201 E. Main Street\, Bedford\, VA 24523 United States + 								\n				\n				\n				\n							\n			\n		\n						\n				\n					\n				\n		\n					\n				\n				\n					Questions? Inquiries?Contact us for more information.				\n				\n				\n				\n									Contact Number: 540-586-4520Email Address: bccm-info@bedfordvamuseum.org
URL:https://bedfordvamuseum.org/event/anabel-lehner-talks-user-experience-manager/
LOCATION:The Hickle Hall\, 402 Sunset Boulevard\, Beverly Hills\, California\, United States
CATEGORIES:Tour
ATTACH;FMTTYPE=image/jpeg:https://bedfordvamuseum.org/wp-content/uploads/2021/09/exhibition-12.jpg
ORGANIZER;CN="Bobbie Huel":MAILTO:bobbie@huel-qa.tri.be
END:VEVENT
BEGIN:VEVENT
DTSTART;TZID=America/New_York:20230209T130000
DTEND;TZID=America/New_York:20250215T150000
DTSTAMP:20260425T162411
CREATED:20210915T012410Z
LAST-MODIFIED:20210915T012410Z
UID:840-1675947600-1739631600@bedfordvamuseum.org
SUMMARY:Willy Huels Dissects Gas Plant Operator
DESCRIPTION:Presentation & Book Signing with Philip Gibbs - Author of\nSex\, Liquor and Lawlessness in Early Roanoke				\n				\n		\n		\n				\n				\n																														\n				\n				\n		\n				\n				\n									Join us at the Bedford Museum and Genealogical Library on May 9th from 1:00 to 3:00pm! Mr. Gibbs will be speaking about his book\, followed by a book signing where attendees can purchase their own copy. Click here to purchase admission tickets. Priced at $10 								\n				\n				\n				\n				\n				\n					About the Book				\n				\n				\n				\n									During the 1880s\, the new city of Roanoke attracted a large and diverse workforce and a multitude of merchants and investors. But like the western cow towns and mining camps of the same period\, the city also attracted prostitutes\, professional gamblers\, charlatans\, and common thieves. By the early 1900s\, Roanoke had become well known for its brothels\, saloons\, gambling halls\, and rampant lawlessness. Despite a campaign to clean up the city\, it was unable to shake its unsavory image. This was particularly true after Virginia went dry in 1916. With easy access to the moonshine whiskey that had long been produced in the surrounding mountains\, bootleg kingpins boldly transported illegal liquor into the city and used violence to protect their operations. Author Phillip Andrew Gibbs explores Roanoke’s early criminal underworld and how civic leaders and law enforcement struggled to free the city from its wild\, wicked\, and unrepentant reputation. 								\n				\n				\n				\n					Book Signing Schedule				\n				\n					\n				\n		\n					\n				\n				\n					Time				\n				\n				\n				\n									Date: May 9th\, 2026Time: 1:00pm to 3:00pm 								\n				\n				\n				\n					Venue				\n				\n					\n				\n		\n					\n				\n				\n									ADDRESS: Bedford Museum and Genealogical Library Third Floor201 E. Main Street\, Bedford\, VA 24523 United States + 								\n				\n				\n				\n							\n			\n		\n						\n				\n					\n				\n		\n					\n				\n				\n					Questions? Inquiries?Contact us for more information.				\n				\n				\n				\n									Contact Number: 540-586-4520Email Address: bccm-info@bedfordvamuseum.org
URL:https://bedfordvamuseum.org/event/willy-huels-dissects-gas-plant-operator/
LOCATION:The Breitenberg Cafe\, 51 42nd St\, New York City\, New York\, United States
CATEGORIES:Tour
ATTACH;FMTTYPE=image/jpeg:https://bedfordvamuseum.org/wp-content/uploads/2021/09/exhibition-gallery-item-8.jpg
ORGANIZER;CN="Terrill King":MAILTO:terrill@king-qa.tri.be
END:VEVENT
BEGIN:VEVENT
DTSTART;TZID=America/Los_Angeles:20230115T180000
DTEND;TZID=America/Los_Angeles:20250115T210000
DTSTAMP:20260425T162411
CREATED:20210915T012412Z
LAST-MODIFIED:20210915T012412Z
UID:849-1673805600-1736974800@bedfordvamuseum.org
SUMMARY:Deploy Visionary Deliverables
DESCRIPTION:Presentation & Book Signing with Philip Gibbs - Author of\nSex\, Liquor and Lawlessness in Early Roanoke				\n				\n		\n		\n				\n				\n																														\n				\n				\n		\n				\n				\n									Join us at the Bedford Museum and Genealogical Library on May 9th from 1:00 to 3:00pm! Mr. Gibbs will be speaking about his book\, followed by a book signing where attendees can purchase their own copy. Click here to purchase admission tickets. Priced at $10 								\n				\n				\n				\n				\n				\n					About the Book				\n				\n				\n				\n									During the 1880s\, the new city of Roanoke attracted a large and diverse workforce and a multitude of merchants and investors. But like the western cow towns and mining camps of the same period\, the city also attracted prostitutes\, professional gamblers\, charlatans\, and common thieves. By the early 1900s\, Roanoke had become well known for its brothels\, saloons\, gambling halls\, and rampant lawlessness. Despite a campaign to clean up the city\, it was unable to shake its unsavory image. This was particularly true after Virginia went dry in 1916. With easy access to the moonshine whiskey that had long been produced in the surrounding mountains\, bootleg kingpins boldly transported illegal liquor into the city and used violence to protect their operations. Author Phillip Andrew Gibbs explores Roanoke’s early criminal underworld and how civic leaders and law enforcement struggled to free the city from its wild\, wicked\, and unrepentant reputation. 								\n				\n				\n				\n					Book Signing Schedule				\n				\n					\n				\n		\n					\n				\n				\n					Time				\n				\n				\n				\n									Date: May 9th\, 2026Time: 1:00pm to 3:00pm 								\n				\n				\n				\n					Venue				\n				\n					\n				\n		\n					\n				\n				\n									ADDRESS: Bedford Museum and Genealogical Library Third Floor201 E. Main Street\, Bedford\, VA 24523 United States + 								\n				\n				\n				\n							\n			\n		\n						\n				\n					\n				\n		\n					\n				\n				\n					Questions? Inquiries?Contact us for more information.				\n				\n				\n				\n									Contact Number: 540-586-4520Email Address: bccm-info@bedfordvamuseum.org
URL:https://bedfordvamuseum.org/event/deploy-visionary-deliverables/
LOCATION:The Bins Room\, 2276 Lombard St\, San Francisco\, California\, United States
CATEGORIES:Tour
ATTACH;FMTTYPE=image/jpeg:https://bedfordvamuseum.org/wp-content/uploads/2021/09/museum-directory-6.jpg
ORGANIZER;CN="Laurence Okuneva":MAILTO:laurence@okuneva-qa.tri.be
END:VEVENT
END:VCALENDAR